BEGIN:VCALENDAR
VERSION:2.0
PRODID:-//ALFA International - ECPv6.15.20//NONSGML v1.0//EN
CALSCALE:GREGORIAN
METHOD:PUBLISH
X-WR-CALNAME:ALFA International
X-ORIGINAL-URL:https://www.alfainternational.com
X-WR-CALDESC:Events for ALFA International
REFRESH-INTERVAL;VALUE=DURATION:PT1H
X-Robots-Tag:noindex
X-PUBLISHED-TTL:PT1H
BEGIN:VTIMEZONE
TZID:America/Chicago
BEGIN:DAYLIGHT
TZOFFSETFROM:-0600
TZOFFSETTO:-0500
TZNAME:CDT
DTSTART:20180311T080000
END:DAYLIGHT
BEGIN:STANDARD
TZOFFSETFROM:-0500
TZOFFSETTO:-0600
TZNAME:CST
DTSTART:20181104T070000
END:STANDARD
BEGIN:DAYLIGHT
TZOFFSETFROM:-0600
TZOFFSETTO:-0500
TZNAME:CDT
DTSTART:20190310T080000
END:DAYLIGHT
BEGIN:STANDARD
TZOFFSETFROM:-0500
TZOFFSETTO:-0600
TZNAME:CST
DTSTART:20191103T070000
END:STANDARD
BEGIN:DAYLIGHT
TZOFFSETFROM:-0600
TZOFFSETTO:-0500
TZNAME:CDT
DTSTART:20200308T080000
END:DAYLIGHT
BEGIN:STANDARD
TZOFFSETFROM:-0500
TZOFFSETTO:-0600
TZNAME:CST
DTSTART:20201101T070000
END:STANDARD
END:VTIMEZONE
BEGIN:VEVENT
DTSTART;TZID=America/Chicago:20190802T080000
DTEND;TZID=America/Chicago:20190802T132000
DTSTAMP:20260424T050830
CREATED:20211104T163219Z
LAST-MODIFIED:20230405T184255Z
UID:10194-1564732800-1564752000@www.alfainternational.com
SUMMARY:2019 Professional Liability Regional Seminar (Chicago\, IL)
DESCRIPTION:The 2019 ALFA International Professional Liability Mini-Seminar took place August 2\, 2019 at The Wrigleyville Rooftop in Chicago\, Illinois.  \n2019 Professional Liability Mini-Seminar Program Brochure\nCourse Materials:\n\nScoring a Run: Making Sure You Can Get All Around the Bases and Back Home with the Deposition Testimony That You Gave\nNext on Deck – Robotic Physicians: Be Sure Your Clients Don’t Strike Out When Encountering New Medical Trends\nWho’s on First\, What’s on Second\, I Don’t Know Who’s on Third – Dealing with Ethical Dilemmas
URL:https://www.alfainternational.com/event/2019-professional-liability-mini-seminar/
LOCATION:Wrigleyville Rooftop\, 3609 N. Sheffield Avenue\, Chicago\, IL\, 60613\, United States
CATEGORIES:Seminars
ATTACH;FMTTYPE=image/png:https://www.alfainternational.com/wp-content/uploads/Baseball.png
END:VEVENT
END:VCALENDAR